BEGIN:VCALENDAR
VERSION:2.0
PRODID:-//eventon.com NONSGML v1.0//EN
BEGIN:VEVENT
UID:69e8f4f7a37e2
DTSTAMP:20260422T161903
DTSTART:20260428T000000Z
DTEND:20260503T235900Z
LOCATION:Centro de Convenciones de Puerto Vallarta Villa Las Flores 505 Col Villa Las Flores CP. 48335 Puerto Vallarta Jalisco
SUMMARY:MONTAJE DE STAND EN CONGRESO SMORLCCC 2026
DESCRIPTION: [caption id="attachment_84790" align="alignnone" width="300"] Congreso SMORLCCC 2026[/caption]
END:VEVENT
END:VCALENDAR